Workbook
Name datatable: 'Distribution Details'!$A$8:$T$24

Sheet Table of Contents
D1: THIS IS AN INDEX OR TABLE OF CONTENTS TO ALL WORKSHEETS IN THIS SPREADSHEET
C2: Worksheet # on 2-15-2025 | D2: Sheet Name | E2: Category | F2: Links to first cell of each Sheet | G2: Hyper links to other parts of the worksheet (CTRL K)
C3: 1 | D3: 1-Table of Contents | E3: Boiler Plate | G3: Table of Contents
C4: 2 | D4: 2-Source Info | E4: Boiler Plate | F4: =+'Source Info'!A1 -> 0 | G4: Source Info
C5: 44 | D5: 9-END OF WORKSHEET | E5: Boiler Plate | F5: =+'END OF WORKSHEET'!A1 -> 0 | G5: END OF WORKSHEET
D6: 1-Distribution Day | E6: Distribution Day | G6: DISTRIBUTION DAY
B7: 1 | C7: 11 | D7: Toy Count Summary 2025 | E7: Distribution Day | F7: =+'Toy Count Summary 2025'!B1 -> 0 | G7: Toy Count Summary 2025
B8: 2 | C8: 13 | D8: 2024 Need Dates_Addresses | E8: Distribution Day | F8: =+'2024 Need Dates_Addresses'!A1 -> 0 | G8: 2024 Need Dates_Addresses
B9: 3 | C9: 24 | D9: Oranizations List | E9: Distribution Day | F9: =+'Oranizations List'!A1 -> 0 | G9: Oranizations List
B10: 4 | C10: 14 | D10: Distribution Details | E10: Distribution Day | F10: =+'Distribution Details'!A1 -> 0 | G10: Distribution Details
B11: 5 | C11: 15 | D11: Toy Pick Lists for printing | E11: Distribution Day | F11: =+'Toy Pick Lists for printing'!A2 -> 0 | G11: Toy Pick Lists for printing
B12: 6 | C12: 17 | D12: LABELS FOR 1ST BOXES | E12: Distribution Day | F12: =+'LABELS FOR 1ST BOXES'!Y6 -> 0 | G12: LABELS FOR 1ST BOXES
B13: 7 | C13: 18 | D13: LABELS FOR XX BOXES - 4 | E13: Distribution Day | F13: =+'LABELS FOR XX BOXES - 4'!B1 -> 0 | G13: LABELS FOR XX BOXES - 4
B14: 8 | C14: 29 | D14: Pics for Labels | E14: Distribution Day | F14: =+'Pics for Labels'!A1 -> 0 | G14: Pics for Labels
B15: 9 | C15: 19 | D15: Order for Toy Picks | E15: Distribution Day | F15: =+'Order for Toy Picks'!E1 -> 0 | G15: Order for Toy Picks
B16: 10 | C16: 30 | D16: TAGS for TABLES | E16: Distribution Day | F16: =+'TAGS for TABLES'!C1 -> 0 | G16: TAGS for TABLES
B17: 11 | C17: 21 | D17: Box Counts | E17: Distribution Day | F17: =+'Box Counts'!K1 -> 0 | G17: Box Counts
B18: 12 | C18: 12 | D18: Toy Count Summary 2024 | E18: Distribution Day | F18: =+'Toy Count Summary 2024'!B1 -> 0 | G18: Toy Count Summary 2024
B19: 13 | C19: 20 | D19: Delivery Checklist 2024 | E19: Distribution Day | F19: =+'Delivery Checklist 2024'!H1 -> 0 | G19: Delivery Checklist 2024
B20: 14 | C20: 31 | D20: Packing Day Checklist | E20: Distribution Day | F20: =+'Packing Day Checklist'!D1 -> 0 | G20: Packing Day Checklist
B21: 15 | C21: 33 | D21: Packing Day Job Assignments | E21: Distribution Day | F21: =+'Packing Day Job Assignments'!A1 -> 0 | G21: Packing Day Job Assignments
B22: 16 | C22: 36 | D22: 2020 Toy Recipients | E22: Distribution Day | F22: =+'2020 Toy Recipients'!B1 -> 0 | G22: 2020 Toy Recipients
B23: 17 | C23: 32 | D23: Final Checklist 2023 | E23: Distribution Day | F23: =+' Final Checklist 2023'!D1 -> 0 | G23: Final Checklist 2023
B24: 18 | C24: 28 | D24: Changes caused by Leftovers | E24: Distribution Day | F24: =+'Changes caused by Leftovers'!A1 -> 0 | G24: Changes caused by Leftovers
D25: 1-Inventory Control | E25: Inventory Control | G25: INVENTORY CONTROL
B26: 1 | C26: 42 | D26: INVENTORY LOG SHEET | E26: Inventory Control | F26: =+'INVENTORY LOG SHEET'!F1 -> 0 | G26: INVENTORY LOG SHEET
B27: 2 | C27: 16 | D27: New Toys for 2023-24 | E27: Inventory Control | F27: =+'New Toys for 2023-24'!A1 -> 0 | G27: New Toys for 2023-24
B28: 3 | C28: 34 | D28: AHT | E28: Inventory Control | F28: =+AHT!F1 -> 0 | G28: AHT rev 2
D29: 1-Management | E29: Management | G29: MANAGEMENT
B30: 1 | C30: 3 | D30: 2025 -TOY PROGRAM MGT SYS | E30: Management | F30: =+'2025 -TOY PROGRAM MGT SYS'!A1 -> 0 | G30: 2025 -TOY PROGRAM MGT SYS
B31: 2 | C31: 23 | D31: TOYS COUNT ITD | E31: Management | F31: =+'TOYS COUNT ITD'!A1 -> 0 | G31: TOYS COUNT ITD
B32: 3 | C32: 4 | D32: 2024 -TOY PROGRAM MGT SYS | E32: Management | F32: =+'2024 -TOY PROGRAM MGT SYS'!A1 -> 0 | G32: 2024 -TOY PROGRAM MGT SYS
B33: 4 | C33: 10 | D33: revised CRITTERS MGT SYS (2024) | E33: Management | F33: =+'revised CRITTERS MGT SYS (2024)'!A1 -> 0 | G33: revised CRITTERS MGT SYS (2024)
B34: 5 | C34: 41 | D34: old LOVE BUG MGT SYS | E34: Management | F34: =+'old LOVE BUG MGT SYS'!A1 -> 0 | G34: old LOVE BUG MGT SYS
B35: 6 | C35: 38 | D35: GAV MGT SYS | E35: Management | F35: =+'GAV MGT SYS'!F1 -> 0 | G35: GAV MGT SYS
B36: 7 | C36: 40 | D36: TOY seeds list | E36: Management | F36: =+'TOY seeds list'!A1 -> 0 | G36: TOY seeds list
B37: 8 | C37: 7 | D37: previous CRITTERS MGT SYS | E37: Management | F37: =+'previous CRITTERS MGT SYS'!A1 -> 0 | G37: previous CRITTERS MGT SYS
B38: 9 | C38: 22 | D38: 2022 - Drwg No Sort | E38: Management | F38: =+'2022 - Drwg No Sort'!A1 -> 0 | G38: 2022 - Drwg No Sort
D40: 1-Parts | E40: Parts | G40: PARTS
B41: 1 | C41: 5 | D41: WOOD PARTS INVENTORY 2024 | E41: Parts | F41: =+'WOOD PARTS INVENTORY 2024'!A1 -> 0 | G41: WOOD PARTS INVENTORY 2024
...

Sheet Source Info
B1: NOTE: THIS GROUP OF WORKSHEETS IS USED TO MANAGE THE BUILIDING OF TOYS, AND DISTRIBUTION OF TOYS.
B2: NOTE - THERE IS HISTORY INFO PLUS OTHER MISC WORKSHEETS FOUND IN ANOTHER FILE CALLED:
B3: 2022 - Toy Distribution rev 2022 MASTER - REV 01.05.2022 - Copy 2.xls

Sheet MANAGEMENT

Sheet 2025 -TOY PROGRAM MGT SYS
G1: TOY PLANS MANAGEMENT SYSTEM
G2: GROUND RULES
G3: 1. Toy Number is its category and its sequence within that category. Eg. Toy 16.34
G4: 2. Drawing number for each toy is "toy-category+assembly+-XX".
I11: NOTES re this worksheet:
I12: Changes are shown as shaded cells.
D14: Toy Number = Cat No + Sub-Cat No | I14: Some columns are hidden for printing TRACING DETAILS only. Remember to restore (unhide) when printing out the TOY PLANS MANAGEMENT SYSTEM.
G16: To use the autosorting feature, there can be no blank rows in the list. | I16: The sorting column is used to print tracing lists (A) for wheeled vehicles and (B) for critters. "c" for tracing is complete. This is done manually each time you need to print a list.
G19: LIST OF DRAWINGS | N19: 45304 | O19: 45318 | P19: 45332 | Q19: 45346 | R19: 45360 | S19: 45374 | T19: 45395
A20: Restore | D20: Category Name | E20: Toy # | F20: Sub-Toy # | G20: Drwg Part # | H20: Ext | I20: individual toy name | J20: Toys Planned for 2025 | K20: Subtotal per Category | L20: Goal for 2025 per Category | M20: Traceable or Not Traceable | N20: Total Traced on 1-11-25 | O20: Total Traced on 1-25-25 | P20: Total Traced on 2-8-25 | Q20: Total Traced on 2-22-25 | R20: Total Traced on 3-8-25 | S20: Total Traced on 3-22-25 | T20: Total Traced on 4-12-25 | U20: Total Traced on 4-26-25 | V20: Total Traced for 2025 | W20: Stock Size | X20: Tracer | Y20: Pattern Retnd? | Z20: Totals Traced | AA20: Totals per Category Traced | AB20: Toys LEFT OVER | AC20: Goal for 2025 per Category | AD20: Done on 4-12-2025 | AE20: Done on 5-24-25 | AF20: Done on 6-28-25 | AG20: Done on 7.28-25 | AH20: Done on 8.23-25 | AI20: Done on 9.6.24 | AJ20: Done on 9.20.25 | AK20: Done on 9.27.25 | AL20: Done on 10.4.25 | AM20: Done on 10.11.25 | AN20: Done on 10.18.25 | AO20: Done on 10.25.25 | AP20: Done on 11.1.25 | AQ20: Done on 11.8.25 | AR20: Done on 11.15.25 | AS20: Done on 11.22.25 | AT20: Done on 11.29.25 | AU20: Subtotals New | AV20: Category Subtotal | AW20: Totals in Inventory
A21: 1 | B21: 1 | C21: 1 | D21: Basketball Games | E21: 1 | F21: 0 | K21: =SUM(J22) -> 100 | L21: =+K21 -> 100 | V21: =SUM(N21:T21) -> 0 | Z21: =+V21 -> 0 | AA21: =SUM(Z22) -> 0 | AB21: 18 | AC21: =+K21 -> 100 | AV21: =SUM(AU22) -> 0 | AW21: =+AV21+AB21 -> 18
A22: 2 | B22: =+B21+1 -> 2 | E22: 1 | F22: 1 | G22: 1001 | H22: -100 | I22: BB Game | J22: 100 | M22: N | V22: =SUM(N22:T22) -> 0 | W22: 1x4 | Z22: =+V22 -> 0 | AU22: =SUM(AD22:AT22) -> 0
A23: 4 | B23: =+B22+1 -> 3 | C23: 2 | D23: Rocking Chairs | E23: 2 | F23: 0 | K23: =+J24 -> 40 | L23: =+K23 -> 40 | V23: =SUM(N23:T23) -> 0 | Z23: =+V23 -> 0 | AA23: =+Z24 -> 0 | AB23: 4 | AC23: =+K23 -> 40 | AV23: =SUM(AU24) -> 0 | AW23: =+AV23+AB23 -> 4
A24: 5 | B24: =+B23+1 -> 4 | E24: 2 | F24: 1 | G24: 1002 | H24: -101 | I24: Rocking Chair | J24: 40 | M24: N | V24: =SUM(N24:T24) -> 0 | W24: 1/2 x | Z24: =+V24 -> 0 | AU24: =SUM(AD24:AT24) -> 0
A26: 8 | B26: =+B24+1 -> 5 | C26: 3 | D26: Tugboats | E26: 3 | F26: 0 | K26: =SUM(J27:J28) -> 130 | AB26: 38 | AV26: =SUM(AU27:AU28) -> 0 | AW26: =+AV26+AB26 -> 38
B27: =+B26+1 -> 6 | E27: 3 | F27: 1 | G27: 1003 | H27: -100 | I27: Tugboat | J27: 100 | L27: =+K26 -> 130 | V27: =SUM(N27:T27) -> 0 | Z27: =+V27 -> 0 | AA27: =+Z28 -> 0 | AC27: =+K26 -> 130 | AU27: =SUM(AD27:AT27) -> 0
B28: =+B27+1 -> 7 | E28: 3 | F28: 2 | I28: Motor Boats | J28: 30 | AU28: =SUM(AD28:AT28) -> 0
A29: 10 | B29: =+B28+1 -> 8 | C29: 4 | D29: Racers | E29: 4 | F29: 0 | K29: =SUM(J30:J45) -> 330 | L29: =+K29 -> 330 | V29: =SUM(N29:T29) -> 0 | Z29: =+V29 -> 0 | AA29: =SUM(Z30:Z45) -> 0 | AB29: 34 | AC29: =+K29 -> 330 | AV29: =SUM(AU30:AU45) -> 204 | AW29: =+AV29+AB29 -> 238
A30: 11 | B30: =+B29+1 -> 9 | E30: 4 | F30: 1 | G30: 1004 | H30: -100 | I30: Racer 100 - STANDARD - MEDIUM | J30: 30 | V30: =SUM(N30:T30) -> 0 | W30: 2x4 | Z30: =+V30 -> 0 | AC30: =+K30 -> 0 | AG30: 28 | AU30: =SUM(AD30:AT30) -> 28
A31: 12 | B31: =+B30+1 -> 10 | E31: 4 | F31: 2 | G31: 1004 | H31: -101 | I31: Racer 101 - DELUXE | J31: 30 | V31: =SUM(N31:T31) -> 0 | W31: 2x4 | Z31: =+V31 -> 0 | AC31: =+K31 -> 0 | AI31: 37 | AU31: =SUM(AD31:AT31) -> 37
A32: 13 | B32: =+B31+1 -> 11 | E32: 4 | F32: 3 | G32: 1004 | H32: -102 | I32: Racer 102 -LES ROGERS | J32: 30 | V32: =SUM(N32:T32) -> 0 | W32: 2x4 | Z32: =+V32 -> 0 | AC32: =+K32 -> 0 | AH32: 33 | AU32: =SUM(AD32:AT32) -> 33
A33: 14 | B33: =+B32+1 -> 12 | E33: 4 | F33: 4 | G33: 1004 | H33: -103 | I33: Racer 103 - STANDARD - SMALL | J33: 30 | V33: =SUM(N33:T33) -> 0 | W33: 2x4 | Z33: =+V33 -> 0 | AC33: =+K33 -> 0 | AD33: 31 | AU33: =SUM(AD33:AT33) -> 31
A34: 15 | B34: =+B33+1 -> 13 | E34: 4 | F34: 5 | G34: 1004 | H34: -104 | I34: Racer 104 - Lightning McQueen - Large | J34: 20 | V34: =SUM(N34:T34) -> 0 | W34: 2x4 | Z34: =+V34 -> 0 | AC34: =+K34 -> 0 | AU34: =SUM(AD34:AT34) -> 0
A35: 16 | B35: =+B34+1 -> 14 | E35: 4 | F35: 6 | G35: 1004 | H35: -105 | I35: Racer 105 - Lightning McQueen - Small | J35: 20 | V35: =SUM(N35:T35) -> 0 | W35: 2x4 | Z35: =+V35 -> 0 | AC35: =+K35 -> 0 | AU35: =SUM(AD35:AT35) -> 0
A36: 17 | B36: =+B35+1 -> 15 | E36: 4 | F36: 7 | G36: 1004 | H36: -106 | I36: Racer 106 - like small boat | V36: =SUM(N36:T36) -> 0 | W36: 2x4 | Z36: =+V36 -> 0 | AC36: =+K36 -> 0 | AU36: =SUM(AD36:AT36) -> 0
A37: 18 | B37: =+B36+1 -> 16 | E37: 4 | F37: 8 | G37: 1004 | H37: -107 | I37: Family Racer - two door | V37: =SUM(N37:T37) -> 0 | W37: 2x4 | Z37: =+V37 -> 0 | AC37: =+K37 -> 0 | AU37: =SUM(AD37:AT37) -> 0
A38: 34 | B38: =+B37+1 -> 17 | E38: 4 | F38: 9 | G38: 1006 | H38: -105 | I38: Batman Race Car - Medium | J38: 20 | V38: =SUM(N38:T38) -> 0 | W38: 2x4 | Z38: =+V38 -> 0 | AC38: =+K38 -> 0 | AJ38: 26 | AU38: =SUM(AD38:AT38) -> 26
B39: =+B38+1 -> 18 | E39: 4 | F39: 10 | G39: 1006 | H39: -105A | I39: Batman Race Car -Small | J39: 20 | V39: =SUM(N39:T39) -> 0 | W39: 2x4 | Z39: =+V39 -> 0 | AC39: =+K39 -> 0 | AJ39: 19 | AU39: =SUM(AD39:AT39) -> 19
A40: 22 | B40: =+B39+1 -> 19 | E40: 4 | F40: 11 | G40: CFB | H40: CFB-01 | I40: CFB RACER - STANDARD - LARGE (10" for CFB) | J40: 20 | V40: =SUM(N40:T40) -> 0 | W40: 2x4 | Z40: =+V40 -> 0 | AC40: =+K40 -> 0 | AU40: =SUM(AD40:AT40) -> 0
A41: 19 | B41: =+B40+1 -> 20 | D41: For CFB: cut and sand only | E41: 4 | F41: 12 | G41: CFB | H41: CFB-02 | I41: CFB Racer - DELUXE - LARGE (10" for CFB) | J41: 20 | V41: =SUM(N41:T41) -> 0 | W41: 2x4 | Z41: =+V41 -> 0 | AC41: =+K41 -> 0 | AU41: =SUM(AD41:AT41) -> 0
A42: 20 | B42: =+B41+1 -> 21 | D42: For CFB: cut and sand only | E42: 4 | F42: 13 | G42: CFB | H42: CFB-03 | I42: CFB Racer - LONG THIN - LARGE (10" for CFB) | J42: 20 | V42: =SUM(N42:T42) -> 0 | W42: 2x4 | Z42: =+V42 -> 0 | AC42: =+K42 -> 0 | AU42: =SUM(AD42:AT42) -> 0
A43: 21 | B43: =+B42+1 -> 22 | D43: For CFB: cut and sand only | E43: 4 | F43: 14 | G43: CFB | H43: CFB-04 | I43: CFB RACER - Batman -LARGE (10" for CFB) | J43: 40 | V43: =SUM(N43:T43) -> 0 | W43: 2x4 | Z43: =+V43 -> 0 | AC43: =+K43 -> 0 | AU43: =SUM(AD43:AT43) -> 0
B44: =+B43+1 -> 23 | D44: For CFB: cut and sand only | E44: 4 | F44: 15 | G44: 1006 | H44: -103 | I44: Racers by Les Rogers (LR): 1006-103-1A thru 1006-103- 5D | Z44: 0
A45: 32 | B45: =+B44+1 -> 24 | D45: new in 2023 | E45: 4 | F45: 16 | G45: 1004 | H45: -108 | I45: Derby Car | J45: 30 | V45: =SUM(N45:T45) -> 0 | W45: 2x4 | Z45: =+V45 -> 0 | AC45: =+K45 -> 0 | AE45: 30 | AU45: =SUM(AD45:AT45) -> 30
B46: =+B45+1 -> 25 | C46: 5 | D46: Cars | E46: 5 | F46: 0 | K46: =SUM(J47:J65) -> 165 | L46: =+K46 -> 165 | V46: =SUM(N46:T46) -> 0 | Z46: =+V46 -> 0 | AA46: =SUM(Z47:Z64) -> 0 | AB46: 66 | AC46: =+K46 -> 165 | AV46: =SUM(AU47:AU65) -> 31 | AW46: =+AV46+AB46 -> 97
A47: 29 | B47: =+B46+1 -> 26 | E47: 5 | F47: 1 | G47: 1006 | H47: -100 | I47: PT Cruiser | J47: 30 | V47: =SUM(N47:T47) -> 0 | W47: 2x4 | Z47: =+V47 -> 0 | AC47: =+K47 -> 0 | AG47: 31 | AU47: =SUM(AD47:AT47) -> 31
A48: 30 | B48: =+B47+1 -> 27 | E48: 5 | F48: 2 | G48: 1006 | H48: -101 | I48: Gangsta Car | V48: =SUM(N48:T48) -> 0 | W48: 2x4 | Z48: =+V48 -> 0 | AC48: =+K48 -> 0 | AU48: =SUM(AD48:AT48) -> 0
A49: 31 | B49: =+B48+1 -> 28 | E49: 5 | F49: 3 | G49: 1006 | H49: -102 | I49: Chevy 1949er | V49: =SUM(N49:T49) -> 0 | W49: 2x4 | Z49: =+V49 -> 0 | AC49: =+K49 -> 0 | AU49: =SUM(AD49:AT49) -> 0
A50: 43 | B50: =+B49+1 -> 29 | E50: 5 | F50: 6 | G50: 1006 | H50: -109 | I50: 2014 Subaru Outback | V50: =SUM(N50:T50) -> 0 | W50: 2x4 | Z50: =+V50 -> 0 | AC50: =+K50 -> 0 | AU50: =SUM(AD50:AT50) -> 0
A51: 62 | B51: =+B50+1 -> 30 | E51: 5 | F51: 7 | G51: 1007 | H51: -101 | I51: Ameba Car | V51: =SUM(N51:T51) -> 0 | W51: 2x4 | Z51: =+V51 -> 0 | AC51: =+K51 -> 0 | AU51: =SUM(AD51:AT51) -> 0 | BD51: =BE51 -> 0
...

Sheet TOYS COUNT ITD
E1: Source Data
E2: 2013 | F2: 70 | G2: WAVI and Benji's House in June 2013
F3: 45 | G3: WW Show
F4: 200 | G4: Hills Alive in July 2013
F5: 2001 | G5: Toys at Christmas
F6: =SUM(F2:F5) -> 2316
E7: 2014
F8: 35 | G8: WAVI in June 2014
F9: 50 | G9: College Student Program
F10: 150 | G10: Airmen in March
F11: 45 | G11: WW Show
F12: 200 | G12: Giveaway Vans - A Day in the Park in July 2014
F13: 2039 | G13: Toys at Christmas
F14: =SUM(F8:F13) -> 2519
E15: 2015
F16: 35 | G16: Back Pack Program
F17: 35 | G17: WAVI in June 2015
F18: 45 | G18: WW Show
F19: 100 | G19: Maker Fair - Aug 2015 | K19: Year | L19: Toys
F20: 2589 | G20: Toys at Christmas | K20: 2008 | L20: 400
F21: =SUM(F16:F20) -> 2804 | K21: 2009 | L21: 1260
E22: 2016 | K22: 2010 | L22: 1430
F23: 45 | G23: WW Show | H23: 42497 | K23: 2011 | L23: 1620
F24: 85 | G24: Giveaway Vans - Make A Wish Foundation | H24: 42504 | K24: 2012 | L24: 2001
F25: 125 | G25: Giveaway Vans - Kenadi Fundraiser | H25: 42546 | K25: 2013 | L25: =+F6 -> 2316
F26: 0 | G26: WAVI in June 2016 (Qty 50 - included in 2015 Toys) | K26: 2014 | L26: =+F14 -> 2519
F27: 200 | G27: Pinewood Derby - Club for Boys | H27: 42571 | K27: 2015 | L27: =+F21 -> 2804
F28: 155 | G28: Giveaway Vans - Maker Faire | H28: 42581 | K28: 2016 | L28: =+F33 -> 3144
F29: 50 | G29: Giveaway Vans - Oerichs Kindergarten | H29: 42581 | K29: 2017 | L29: =+F44 -> 3397
F30: 25 | G30: Giveaway Vans - Lutheran Church Outreach Event | H30: 42610 | K30: 2018 | L30: =+F59 -> 4053
F31: 75 | G31: Love Bug Project - thruout the year | K31: 2019 | L31: =+F73 -> 4427
F32: 2384 | G32: Toys at Christmas | H32: 42707 | K32: 2020 | L32: 2942
F33: =SUM(F23:F32) -> 3144 | K33: 2021 | L33: 3509
E34: 2017 | K34: 2022 | L34: =+F120 -> 3462
F35: 50 | G35: WW Show | H35: 42847 | K35: 2023 | L35: =+F139 -> 4263
F36: 85 | G36: Giveaway Vans - Make A Wish Foundation | H36: 42875 | K36: 2024 | L36: =+F157 -> 4584
F37: 85 | G37: Giveaway Vans - A Day in the Park in July 2017 | H37: 42931 | L37: =SUM(L20:L36) -> 48131 | M37: total toys given away to date
F38: 254 | G38: Giveaway Vans - Kenadi Fundraiser | H38: 42910
F39: 0 | G39: WAVI in June 2017 (Qty 50 - included in 2016 Toys)
F40: 200 | G40: Pinewood Derby - Club for Boys | H40: 42941
...

Sheet scratchpad
A1: Toy # | B1: Sub-Toy # | C1: Drwg Part # | D1: Ext | E1: individual toy name | F1: Toys Planned for 2025 | G1: WIP | H1: STATUS 8.22.25
A2: 1 | B2: 0
A3: 1 | B3: 1 | C3: 1001 | D3: -100 | E3: BB Game | F3: 100
A4: 2 | B4: 0
A5: 2 | B5: 1 | C5: 1002 | D5: -101 | E5: Rocking Chair | F5: 40
A7: 3 | B7: 0
A8: 3 | B8: 1 | C8: 1003 | D8: -100 | E8: Tugboat | F8: 100 | G8: 1 | H8: needs all
A9: 3 | B9: 2 | E9: Motor Boats | F9: 30
A10: 4 | B10: 0
A11: 4 | B11: 1 | C11: 1004 | D11: -100 | E11: Racer 100 - STANDARD - MEDIUM | F11: 30
A12: 4 | B12: 2 | C12: 1004 | D12: -101 | E12: Racer 101 - DELUXE | F12: 30
A13: 4 | B13: 3 | C13: 1004 | D13: -102 | E13: Racer 102 -LES ROGERS | F13: 30
A14: 4 | B14: 4 | C14: 1004 | D14: -103 | E14: Racer 103 - STANDARD - SMALL | F14: 30
A15: 4 | B15: 5 | C15: 1004 | D15: -104 | E15: Racer 104 - Lightning McQueen - Large | F15: 20 | G15: 1 | H15: needs all
A16: 4 | B16: 6 | C16: 1004 | D16: -105 | E16: Racer 105 - Lightning McQueen - Small | F16: 20 | G16: 1 | H16: needs all
A17: 4 | B17: 7 | C17: 1004 | D17: -106 | E17: Racer 106 - like small boat
A18: 4 | B18: 8 | C18: 1004 | D18: -107 | E18: Family Racer - two door
A19: 4 | B19: 9 | C19: 1006 | D19: -105 | E19: Batman Race Car - Medium | F19: 20
A20: 4 | B20: 10 | C20: 1006 | D20: -105A | E20: Batman Race Car -Small | F20: 20 | G20: 1 | H20: cut and drilled
A21: 4 | B21: 11 | C21: CFB | D21: CFB-01 | E21: CFB RACER - STANDARD - LARGE (10" for CFB) | F21: 20
A22: 4 | B22: 12 | C22: CFB | D22: CFB-02 | E22: CFB Racer - DELUXE - LARGE (10" for CFB) | F22: 20
A23: 4 | B23: 13 | C23: CFB | D23: CFB-03 | E23: CFB Racer - LONG THIN - LARGE (10" for CFB) | F23: 20
A24: 4 | B24: 14 | C24: CFB | D24: CFB-04 | E24: CFB RACER - Batman -LARGE (10" for CFB) | F24: 40
A25: 4 | B25: 15 | C25: 1006 | D25: -103 | E25: Racers by Les Rogers (LR): 1006-103-1A thru 1006-103- 5D
A26: 4 | B26: 16 | C26: 1004 | D26: -108 | E26: Derby Car | F26: 30
A27: 5 | B27: 0
A28: 5 | B28: 1 | C28: 1006 | D28: -100 | E28: PT Cruiser | F28: 30
A29: 5 | B29: 2 | C29: 1006 | D29: -101 | E29: Gangsta Car
A30: 5 | B30: 3 | C30: 1006 | D30: -102 | E30: Chevy 1949er
A31: 5 | B31: 6 | C31: 1006 | D31: -109 | E31: 2014 Subaru Outback
A32: 5 | B32: 7 | C32: 1007 | D32: -101 | E32: Ameba Car
A33: 5 | B33: 8 | C33: 1007 | D33: -102 | E33: C-Car | F33: 20 | G33: 1 | H33: needs all
A34: 5 | B34: 9 | E34: spare slot
A35: 5 | B35: 10 | C35: 1007 | D35: -109 | E35: Old 69 VW Bug | F35: 20 | G35: 1 | H35: needs all
A36: 5 | B36: 11 | C36: 1007 | D36: -110 | E36: Fiat 500D
A37: 5 | B37: 12 | C37: 1007 | D37: -111 | E37: Fiat 500- 2 (Older)
A38: 5 | B38: 13 | C38: 1007 | D38: -112 | E38: Scion
A39: 5 | B39: 14 | C39: 1007 | D39: -113 | E39: KIA Soul
A40: 5 | B40: 15 | C40: 1007 | D40: -115 | E40: Little Boxy Car
A41: 5 | B41: 16 | C41: 1007 | D41: -116 | E41: Kid Car | F41: 20
...

Sheet 2024 -TOY PROGRAM MGT SYS
G1: TOY PLANS MANAGEMENT SYSTEM
G2: GROUND RULES
G3: 1. Toy Number is its category and its sequence within that category. Eg. Toy 16.34
G4: 2. Drawing number for each toy is "toy-category+assembly+-XX".
I11: NOTES re this worksheet:
I12: Changes are shown as shaded cells.
D14: Toy Number = Cat No + Sub-Cat No | I14: Some columns are hidden for printing TRACING DETAILS only. Remember to restore (unhide) when printing out the TOY PLANS MANAGEMENT SYSTEM.
G16: To use the autosorting feature, there can be no blank rows in the list. | I16: The sorting column is used to print tracing lists (A) for wheeled vehicles and (B) for critters. "c" for tracing is complete. This is done manually each time you need to print a list.
G19: LIST OF DRAWINGS | N19: 45304 | O19: 45318 | P19: 45332 | Q19: 45346 | R19: 45360 | S19: 45374 | T19: 45395
A20: Restore | D20: Category Name | E20: Toy # | F20: Sub-Toy # | G20: Drwg Part # | H20: Ext | I20: individual toy name | J20: Toys Planned for 2024 | K20: Subtotal per Category | L20: Goal for 2024 per Category | M20: Traceable or Not Traceable | N20: Total Traced on 1-20-24 | O20: Total Traced on 1-27-24 | P20: Total Traced on 2-10-24 | Q20: Total Traced on 2-24-24 | R20: Total Traced on 3-9-24 | S20: Total Traced on 3-23-24 | T20: Total Traced on 4-13-24 | U20: Total Traced for 2024 | V20: Stock Size | W20: Tracer | X20: Pattern Retnd? | Y20: Totals Traced | Z20: Totals per Category Traced | AA20: Toys LEFT OVER | AB20: Goal for 2024 per Category | AC20: Done on 3.23.24 | AD20: Done on 6.8.24 | AE20: Done on 7.13.24 | AF20: Done on 7.27.24 | AG20: Done on 8.24.24 | AH20: Done on 9.7.24 | AI20: Done on 9.21 | AJ20: Done on 9.28 | AK20: Done on 10.5 | AL20: Done on 10.12 | AM20: Done on 10.19 | AN20: Done on 10.26 | AO20: Done on 11.2 | AP20: Done on 11.9 | AQ20: Done on 11.16 | AR20: Done on 11.23 | AS20: Done on 11.30 | AT20: Subtotals New | AU20: Category Subtotal | AV20: Totals in Inventory
A21: 1 | B21: 1 | C21: 1 | D21: Basketball Games | E21: 1 | F21: 0 | K21: =SUM(J22) -> 100 | L21: =+K21 -> 100 | U21: =SUM(N21:T21) -> 0 | Y21: =+U21 -> 0 | Z21: =SUM(Y22) -> 0 | AA21: 10 | AB21: =+K21 -> 100 | AU21: =SUM(AT22) -> 99 | AV21: =+AU21+AA21 -> 109
A22: 2 | B22: =+B21+1 -> 2 | E22: 1 | F22: 1 | G22: 1001 | H22: -100 | I22: BB Game | J22: 100 | M22: N | U22: =SUM(N22:T22) -> 0 | V22: 1x4 | Y22: =+U22 -> 0 | AO22: 72 | AP22: 27 | AT22: =SUM(AC22:AS22) -> 99
A23: 4 | B23: =+B22+1 -> 3 | C23: 2 | D23: Rocking Chairs | E23: 2 | F23: 0 | K23: =+J24 -> 40 | L23: =+K23 -> 40 | U23: =SUM(N23:T23) -> 0 | Y23: =+U23 -> 0 | Z23: =+Y24 -> 0 | AA23: 5 | AB23: =+K23 -> 40 | AU23: =SUM(AT24) -> 40 | AV23: =+AU23+AA23 -> 45
A24: 5 | B24: =+B23+1 -> 4 | E24: 2 | F24: 1 | G24: 1002 | H24: -101 | I24: Rocking Chair | J24: 40 | M24: N | U24: =SUM(N24:T24) -> 0 | V24: 1/2 x | Y24: =+U24 -> 0 | AL24: 40 | AT24: =SUM(AC24:AS24) -> 40
A26: 8 | B26: =+B24+1 -> 5 | C26: 3 | D26: Tugboats | E26: 3 | F26: 0 | K26: =SUM(J27:J28) -> 130 | AA26: 7 | AU26: =SUM(AT27:AT28) -> 138 | AV26: =+AU26+AA26 -> 145
B27: =+B26+1 -> 6 | E27: 3 | F27: 1 | G27: 1003 | H27: -100 | I27: Tugboat | J27: 100 | L27: =+K26 -> 130 | U27: =SUM(N27:T27) -> 0 | Y27: =+U27 -> 0 | Z27: =+Y28 -> 0 | AB27: =+K26 -> 130 | AK27: 29 | AL27: 75 | AQ27: 5 | AT27: =SUM(AC27:AS27) -> 109
B28: =+B27+1 -> 7 | E28: 3 | F28: 2 | I28: Motor Boats | J28: 30 | AH28: 29 | AT28: =SUM(AC28:AS28) -> 29
A29: 10 | B29: =+B28+1 -> 8 | C29: 4 | D29: Racers | E29: 4 | F29: 0 | K29: =SUM(J30:J45) -> 330 | L29: =+K29 -> 330 | U29: =SUM(N29:T29) -> 0 | Y29: =+U29 -> 0 | Z29: =SUM(Y30:Y45) -> 0 | AA29: =SUM(AA30:AA45) -> 66 | AB29: =+K29 -> 330 | AU29: =SUM(AT30:AT45) -> 331 | AV29: =+AU29+AA29 -> 397
A30: 11 | B30: =+B29+1 -> 9 | E30: 4 | F30: 1 | G30: 1004 | H30: -100 | I30: Racer 100 - STANDARD - MEDIUM | J30: 30 | U30: =SUM(N30:T30) -> 0 | V30: 2x4 | Y30: =+U30 -> 0 | AA30: 11 | AB30: =+K30 -> 0 | AK30: 32 | AT30: =SUM(AC30:AS30) -> 32
A31: 12 | B31: =+B30+1 -> 10 | E31: 4 | F31: 2 | G31: 1004 | H31: -101 | I31: Racer 101 - DELUXE | J31: 30 | U31: =SUM(N31:T31) -> 0 | V31: 2x4 | Y31: =+U31 -> 0 | AA31: 7 | AB31: =+K31 -> 0 | AQ31: 31 | AT31: =SUM(AC31:AS31) -> 31
A32: 13 | B32: =+B31+1 -> 11 | E32: 4 | F32: 3 | G32: 1004 | H32: -102 | I32: Racer 102 -LES ROGERS | J32: 30 | U32: =SUM(N32:T32) -> 0 | V32: 2x4 | Y32: =+U32 -> 0 | AA32: 9 | AB32: =+K32 -> 0 | AR32: 44 | AT32: =SUM(AC32:AS32) -> 44
A33: 14 | B33: =+B32+1 -> 12 | E33: 4 | F33: 4 | G33: 1004 | H33: -103 | I33: Racer 103 - STANDARD - SMALL | J33: 30 | U33: =SUM(N33:T33) -> 0 | V33: 2x4 | Y33: =+U33 -> 0 | AA33: 10 | AB33: =+K33 -> 0 | AK33: 60 | AT33: =SUM(AC33:AS33) -> 60
A34: 15 | B34: =+B33+1 -> 13 | E34: 4 | F34: 5 | G34: 1004 | H34: -104 | I34: Racer 104 - Lightning McQueen - Large | J34: 20 | U34: =SUM(N34:T34) -> 0 | V34: 2x4 | Y34: =+U34 -> 0 | AA34: 3 | AB34: =+K34 -> 0 | AF34: 27 | AI34: 2 | AT34: =SUM(AC34:AS34) -> 29
A35: 16 | B35: =+B34+1 -> 14 | E35: 4 | F35: 6 | G35: 1004 | H35: -105 | I35: Racer 105 - Lightning McQueen - Small | J35: 20 | U35: =SUM(N35:T35) -> 0 | V35: 2x4 | Y35: =+U35 -> 0 | AA35: 15 | AB35: =+K35 -> 0 | AI35: 26 | AT35: =SUM(AC35:AS35) -> 26
A36: 17 | B36: =+B35+1 -> 15 | E36: 4 | F36: 7 | G36: 1004 | H36: -106 | I36: Racer 106 - like small boat | U36: =SUM(N36:T36) -> 0 | V36: 2x4 | Y36: =+U36 -> 0 | AB36: =+K36 -> 0 | AT36: =SUM(AC36:AS36) -> 0
A37: 18 | B37: =+B36+1 -> 16 | E37: 4 | F37: 8 | G37: 1004 | H37: -107 | I37: Family Racer - two door | U37: =SUM(N37:T37) -> 0 | V37: 2x4 | Y37: =+U37 -> 0 | AB37: =+K37 -> 0 | AT37: =SUM(AC37:AS37) -> 0
A38: 34 | B38: =+B37+1 -> 17 | E38: 4 | F38: 9 | G38: 1006 | H38: -105 | I38: Batman Race Car - Medium | J38: 20 | U38: =SUM(N38:T38) -> 0 | V38: 2x4 | Y38: =+U38 -> 0 | AA38: 8 | AB38: =+K38 -> 0 | AF38: 23 | AI38: 2 | AT38: =SUM(AC38:AS38) -> 25
B39: =+B38+1 -> 18 | E39: 4 | F39: 10 | G39: 1006 | H39: -105A | I39: Batman Race Car -Small | J39: 20 | U39: =SUM(N39:T39) -> 0 | V39: 2x4 | Y39: =+U39 -> 0 | AA39: 3 | AB39: =+K39 -> 0 | AI39: 25 | AT39: =SUM(AC39:AS39) -> 25
A40: 22 | B40: =+B39+1 -> 19 | E40: 4 | F40: 11 | G40: CFB | H40: CFB-01 | I40: CFB RACER - STANDARD - LARGE (10" for CFB) | J40: 20 | U40: =SUM(N40:T40) -> 0 | V40: 2x4 | Y40: =+U40 -> 0 | AB40: =+K40 -> 0 | AT40: =SUM(AC40:AS40) -> 0
A41: 19 | B41: =+B40+1 -> 20 | D41: For CFB: cut and sand only | E41: 4 | F41: 12 | G41: CFB | H41: CFB-02 | I41: CFB Racer - DELUXE - LARGE (10" for CFB) | J41: 20 | U41: =SUM(N41:T41) -> 0 | V41: 2x4 | Y41: =+U41 -> 0 | AB41: =+K41 -> 0 | AT41: =SUM(AC41:AS41) -> 0
A42: 20 | B42: =+B41+1 -> 21 | D42: For CFB: cut and sand only | E42: 4 | F42: 13 | G42: CFB | H42: CFB-03 | I42: CFB Racer - LONG THIN - LARGE (10" for CFB) | J42: 20 | U42: =SUM(N42:T42) -> 0 | V42: 2x4 | Y42: =+U42 -> 0 | AB42: =+K42 -> 0 | AI42: 2 | AT42: =SUM(AC42:AS42) -> 2
A43: 21 | B43: =+B42+1 -> 22 | D43: For CFB: cut and sand only | E43: 4 | F43: 14 | G43: CFB | H43: CFB-04 | I43: CFB RACER - Batman -LARGE (10" for CFB) | J43: 40 | U43: =SUM(N43:T43) -> 0 | V43: 2x4 | Y43: =+U43 -> 0 | AB43: =+K43 -> 0 | AI43: 25 | AT43: =SUM(AC43:AS43) -> 25
B44: =+B43+1 -> 23 | D44: For CFB: cut and sand only | E44: 4 | F44: 15 | G44: 1006 | H44: -103 | I44: Racers by Les Rogers (LR): 1006-103-1A thru 1006-103- 5D | Y44: 0
A45: 32 | B45: =+B44+1 -> 24 | D45: new in 2023 | E45: 4 | F45: 16 | G45: 1004 | H45: -108 | I45: Derby Car | J45: 30 | U45: =SUM(N45:T45) -> 0 | V45: 2x4 | Y45: =+U45 -> 0 | AB45: =+K45 -> 0 | AH45: 32 | AT45: =SUM(AC45:AS45) -> 32
B46: =+B45+1 -> 25 | C46: 5 | D46: Cars | E46: 5 | F46: 0 | K46: =SUM(J47:J65) -> 165 | L46: =+K46 -> 165 | U46: =SUM(N46:T46) -> 0 | Y46: =+U46 -> 0 | Z46: =SUM(Y47:Y64) -> 0 | AA46: 0 | AB46: =+K46 -> 165 | AU46: =SUM(AT47:AT65) -> 130 | AV46: =+AU46+AA46 -> 130
A47: 29 | B47: =+B46+1 -> 26 | E47: 5 | F47: 1 | G47: 1006 | H47: -100 | I47: PT Cruiser | J47: 30 | U47: =SUM(N47:T47) -> 0 | V47: 2x4 | Y47: =+U47 -> 0 | AB47: =+K47 -> 0 | AI47: 2 | AT47: =SUM(AC47:AS47) -> 2
A48: 30 | B48: =+B47+1 -> 27 | E48: 5 | F48: 2 | G48: 1006 | H48: -101 | I48: Gangsta Car | U48: =SUM(N48:T48) -> 0 | V48: 2x4 | Y48: =+U48 -> 0 | AB48: =+K48 -> 0 | AT48: =SUM(AC48:AS48) -> 0
A49: 31 | B49: =+B48+1 -> 28 | E49: 5 | F49: 3 | G49: 1006 | H49: -102 | I49: Chevy 1949er | U49: =SUM(N49:T49) -> 0 | V49: 2x4 | Y49: =+U49 -> 0 | AB49: =+K49 -> 0 | AT49: =SUM(AC49:AS49) -> 0
A50: 43 | B50: =+B49+1 -> 29 | E50: 5 | F50: 6 | G50: 1006 | H50: -109 | I50: 2014 Subaru Outback | U50: =SUM(N50:T50) -> 0 | V50: 2x4 | Y50: =+U50 -> 0 | AB50: =+K50 -> 0 | AT50: =SUM(AC50:AS50) -> 0
A51: 62 | B51: =+B50+1 -> 30 | E51: 5 | F51: 7 | G51: 1007 | H51: -101 | I51: Ameba Car | U51: =SUM(N51:T51) -> 0 | V51: 2x4 | Y51: =+U51 -> 0 | AB51: =+K51 -> 0 | AT51: =SUM(AC51:AS51) -> 0 | BC51: =BD51 -> 0
...

Sheet revised CRITTERS MGT SYS (2024)
C1: TOY PLANS MANAGEMENT SYSTEM
C2: GROUND RULES
C3: 1. Every toy will have a unique number based on its category and its sequence within that category plus" -XX" if assigned.
C4: 2. Part number for each toy is "toy-category+assembly+-XX".
C5: 3. Pattern number for each toy is "toy-category+pattern".
C6: 4. Bill of Material (BOM) number for each toy is "toy-category+bom".
C7: 5. Photo number for each toy is "toy-category+photo".
C8: 6. One pattern drawing for each unique category: eg. 1007-100.
C9: 7. One BOM drawing for each unique category: eg. 1007-100.
C10: 8. One photo drawing for each unique category: eg. 1007-100.
G11: NOTES re this worksheet:
G12: Changes are shown as shaded cells.
G14: Some columns are hidden for printing TRACING DETAILS only. Remember to restore (unhide) when printing out the TOY PLANS MANAGEMENT SYSTEM.
D16: To use the autosorting feature, there can be no blank rows in the list. | G16: The sorting column is used to print tracing lists (A) for wheeled vehicles and (B) for critters. "C" for tracing is complete. This is done manually each time you need to print a list.
C19: LIST OF DRAWINGS | K19: CRITTERS TRACING LIST 2024
C20: toy category name | D20: toy-category number | E20: assembly | F20: -XX | G20: toy assembly | H20: pattern | I20: bom | J20: photo | K20: Total per Part No. | L20: Goal for 2024 | M20: Qty per Each Set Planned | N20: Critters 1013s | O20: Sorting Column | Q20: 1 | R20: 2 | S20: 4 | T20: 5 | U20: 6 | V20: 7 | W20: 8 | X20: 9 | Y20: 10 | Z20: Totals
A21: Location of Patterns | B21: Toy Number | D21: 1013 | E21: -100 | G21: CUTOUTS (using 1X STOCK) One set per bag - quantity varies | K21: 10 | L21: 100
A22: Keith | B22: 13.1 | C22: SET 1 | D22: 1013 | E22: -101, -102, - 103, - 112 | G22: VEHICLES - Patterns Done | M22: 10
B23: 13.1 A | D23: 1013 | E23: -101 | F23: -01 | G23: PICKUP | H23: -201 | I23: -301 | J23: -401 | N23: 10
B24: 13.1 B | D24: 1013 | E24: -101 | F24: -02 | G24: VAN | H24: -201 | I24: -301 | J24: -401 | N24: 10
B25: 13.1 C | D25: 1013 | E25: -101 | F25: -03 | G25: CONVERTIBLE | H25: -201 | I25: -301 | J25: -401 | N25: 10
B26: 13.1 D | D26: 1013 | E26: -101 | F26: -04 | G26: SEDAN | H26: -201 | I26: -301 | J26: -401 | N26: 10
B27: 13.1 E | D27: 1013 | E27: -101 | F27: -05 | G27: SUV | H27: -201 | I27: -301 | J27: -401 | N27: 10
B28: 13.1 F | D28: 1013 | E28: -101 | F28: -06 | G28: BUG | H28: -201 | I28: -301 | J28: -401 | N28: 10
B29: 13.1 G | E29: NEW | G29: TRUCK - new - pattern is in file | H29: -202 | I29: -302 | J29: -402 | N29: 10
B30: 13.1 H | D30: 1013 | E30: -112 | F30: -01 W | G30: -01 COUPE | H30: -212 | I30: -312 | J30: -412 | N30: 10
B31: 13.1 J | D31: 1013 | E31: -112 | F31: -02 W | G31: -02 OLDIE | H31: -212 | I31: -312 | J31: -412 | N31: 10
B32: 13.1 K | D32: 1013 | E32: -112 | F32: -03 W | G32: -03 PUTT-PUTT | H32: -212 | I32: -312 | J32: -412 | N32: 10
B33: 13.1 L | D33: 1013 | E33: -112 | F33: -04 W | G33: -04 STATION WAGON | H33: -212 | I33: -312 | J33: -412 | N33: 10
B34: 13.1 M | D34: 1013 | E34: -112 | F34: -05 W | G34: -05 VW BUG | H34: -212 | I34: -312 | J34: -412 | N34: 10
A36: File | B36: 13.2 | C36: SET 2 | D36: 1013 | E36: -106 | G36: SEA WORLD ANIMALS - Patterns Done | M36: 10
B37: 13.2 A | D37: 1013 | E37: -106 | F37: -01B | G37: ANGEL FISH - SMALL | H37: -206 | I37: -306 | J37: -406 | N37: 10
B38: 13.2 B | D38: 1013 | E38: -106 | F38: -02B | G38: WHALE - SMALL | H38: -206 | I38: -306 | J38: -406 | N38: 10
B39: 13.2 C | D39: 1013 | E39: -106 | F39: -03B | G39: DOLPHIN - SMALL | H39: -206 | I39: -306 | J39: -406 | N39: 10
B40: 13.2 D | D40: 1013 | E40: -106 | F40: -04 | G40: OCTOPUS -new | H40: -206 | I40: -306 | J40: -406 | N40: 10
B41: 13.2 E | D41: 1013 | E41: -106 | F41: -05 | G41: SEA HORSE-new | H41: -206 | I41: -306 | J41: -406 | N41: 10
B42: 13.2 F | D42: 1013 | E42: -106 | F42: -06 | G42: SHARK-new | H42: -206 | I42: -306 | J42: -406 | N42: 10
B43: 13.2 G | D43: 1013 | E43: -106 | F43: -08 | G43: Alligator-new | H43: -206 | I43: -306 | J43: -406 | N43: 10
B44: 13.2 H | D44: 1013 | E44: -106 | F44: -11 | G44: Penquin 1 - need drwgs | H44: -206 | I44: -306 | J44: -406 | N44: 10
B45: 13.2 J | D45: 1013 | E45: -106 | F45: -12 | G45: Penquin 2v- need drwgs
...

Sheet previous CRITTERS MGT SYS
C1: TOY PLANS MANAGEMENT SYSTEM
C2: GROUND RULES
C3: 1. Every toy will have a unique number based on its category and its sequence within that category plus" -XX" if assigned.
C4: 2. Part number for each toy is "toy-category+assembly+-XX".
C5: 3. Pattern number for each toy is "toy-category+pattern".
C6: 4. Bill of Material (BOM) number for each toy is "toy-category+bom".
C7: 5. Photo number for each toy is "toy-category+photo".
C8: 6. One pattern drawing for each unique category: eg. 1007-100.
C9: 7. One BOM drawing for each unique category: eg. 1007-100.
C10: 8. One photo drawing for each unique category: eg. 1007-100.
G11: NOTES re this worksheet:
G12: Changes are shown as shaded cells.
G14: Some columns are hidden for printing TRACING DETAILS only. Remember to restore (unhide) when printing out the TOY PLANS MANAGEMENT SYSTEM.
D16: To use the autosorting feature, there can be no blank rows in the list. | G16: The sorting column is used to print tracing lists (A) for wheeled vehicles and (B) for critters. "C" for tracing is complete. This is done manually each time you need to print a list.
C19: LIST OF DRAWINGS | K19: CRITTERS TRACING LIST 2023
C20: toy category name | D20: toy-category number | E20: assembly | F20: -XX | G20: toy assembly | H20: pattern | I20: bom | J20: photo | K20: Total per Part No. | L20: Goal for 2023 | M20: Qty per Each Set Planned | N20: Critters 1013s | O20: Sorting Column | Q20: 1 | R20: 2 | S20: 4 | T20: 5 | U20: 6 | V20: 7 | W20: 8 | X20: 9 | Y20: 11 | Z20: Totals
A21: 40 | B21: Toy Number | D21: 1013 | E21: -100 | G21: CUTOUTS (using 1X STOCK) One set per bag - quantity varies | K21: 10 | L21: 100
B22: 13.1 | C22: SET 1 | D22: 1013 | E22: -101, -102, - 103, - 112 | G22: VEHICLES: LIGHT/HEAVY/MISC/5 Favs/Tractors
D23: 1013 | E23: -101 | G23: LIGHT VEHICLES SET | M23: 15
A24: 41 | D24: 1013 | E24: -101 | F24: -01 | G24: PICKUP | H24: -201 | I24: -301 | J24: -401 | N24: 10
A25: 42 | D25: 1013 | E25: -101 | F25: -02 | G25: VAN | H25: -201 | I25: -301 | J25: -401 | N25: 10
A26: 43 | D26: 1013 | E26: -101 | F26: -03 | G26: CONVERTIBLE | H26: -201 | I26: -301 | J26: -401 | N26: 10
A27: 44 | D27: 1013 | E27: -101 | F27: -04 | G27: SEDAN | H27: -201 | I27: -301 | J27: -401 | N27: 10
A28: 45 | D28: 1013 | E28: -101 | F28: -05 | G28: SUV | H28: -201 | I28: -301 | J28: -401 | N28: 10
A29: 46 | D29: 1013 | E29: -101 | F29: -06 | G29: BUG | H29: -201 | I29: -301 | J29: -401 | N29: 10
D30: 1013 | E30: -102 | G30: HEAVY VEHICLES SET
A31: 47 | D31: 1013 | E31: -102 | F31: -01 | G31: CONSTRUCTION VEHICLE | H31: -202 | I31: -302 | J31: -402
A32: 48 | D32: 1013 | E32: -102 | F32: -02 | G32: TRACTOR - also use with RANCH and FARM Sets | H32: -202 | I32: -302 | J32: -402 | N32: 10
D33: 1013 | E33: -103 | G33: MISC SET
A34: 49 | D34: 1013 | E34: -103 | F34: -01 | G34: AIRPLANE | H34: -203 | I34: -303 | J34: -403 | N34: 10
A35: 51 | D35: 1013 | E35: -103 | F35: -03 | G35: GINGER BREAD MAN | H35: -203 | I35: -303 | J35: -403
D36: 1013 | E36: -112 | F36: xx | G36: 5 FAVS - SMALL
A37: 120 | D37: 1013 | E37: -112 | F37: -01 W | G37: -01 COUPE | H37: -212 | I37: -312 | J37: -412 | N37: 10
A38: 121 | D38: 1013 | E38: -112 | F38: -02 W | G38: -02 OLDIE | H38: -212 | I38: -312 | J38: -412 | N38: 10
A39: 122 | D39: 1013 | E39: -112 | F39: -03 W | G39: -03 PUTT-PUTT | H39: -212 | I39: -312 | J39: -412 | N39: 10
A40: 123 | D40: 1013 | E40: -112 | F40: -04 W | G40: -04 STATION WAGON | H40: -212 | I40: -312 | J40: -412 | N40: 10
A41: 124 | D41: 1013 | E41: -112 | F41: -05 W | G41: -05 VW BUG | H41: -212 | I41: -312 | J41: -412 | N41: 10
B42: 13.2 | C42: SET 2 | D42: 1013 | E42: -104 | G42: SET 2: DOG/CATS/PENGUINS/TURTLES | M42: 0
A43: 52 | D43: 1013 | E43: -104 | F43: -01 | G43: BIG CAT 1 | H43: -204 | I43: -304 | J43: -404 | N43: 10
A44: 53 | D44: 1013 | E44: -104 | F44: -02 | G44: BIG DOG | H44: -204 | I44: -304 | J44: -404 | N44: 10
...

Sheet old LOVE BUG MGT SYS
C1: NOTE: NEW LOVE BUG TRACKER IS IN A SEPARATE FILE.
B2: Record of Love Bugs: PN 1016-101 (Small Car 1 - Love Bug)
B3: Qty Made | C3: Date | D3: Made by: | E3: Year Made | F3: Qty Given | G3: Date | H3: Purpose
E5: 2018
F6: 77 | G6: 43281 | H6: Love Bug Project
F7: 45 | G7: 43191 | H7: Love Bug Project - WW Show
F8: 200 | G8: May thru Dec | H8: Love Bug Project - estimated
F9: =SUM(F6:F8) -> 322
E11: 2019 | F11: 7 | G11: 43645 | H11: Love Bug Project - Rollie
F12: 15 | G12: 43645 | H12: Love Bug Project - Rick
B13: 81 | C13: 43645 | D13: Toy Program
F14: 50 | G14: 43778 | H14: Rapid City Fire Department
B15: 83 | C15: 43778 | D15: Toy Program
F16: 40 | G16: 43785 | H16: Love Bug Project
B17: 112 | C17: 43785 | D17: Toy Program
B19: 100 | C19: 43804 | D19: Toy Program | F19: 100 | G19: 43804 | H19: Love Bug Project
B20: =SUM(B13:B19) -> 376
E22: 2021
B23: 30 | C23: 44485 | D23: Toy Program | H23: To Rick for General Distribution
B24: 44 | C24: 44401 | D24: Toy Program | H24: Dune buggy style - Gen Dist

Sheet GAV MGT SYS
A1: Giveaway Vans / Equivalent Management System
B2: GROUND RULES
B3: 1. Every toy will have a unique number based on its category and its sequence within that category plus" -XX" if assigned.
B4: 2. Part number for each toy is "toy-category+assembly+-XX".
B5: 3. Pattern number for each toy is "toy-category+pattern".
B7: Community Events Records
D8: 2016
B9: 45 | C9: Giveaways - Love Bugs - WW Show | F9: Community Events
B10: 85 | C10: Giveaway Vans - Make A Wish Foundation | D10: 42504 | F10: Threshing Bee
B11: 125 | C11: Giveaway Vans - Kenadi Fundraiser #1 | D11: 42546 | F11: Love Bugs for WW Show
B12: 155 | C12: Giveaway Vans - Maker Faire | D12: 42581 | F12: Make a Wish
B13: 50 | C13: Giveaway Vans - Oerichs Kindergarten | D13: 42581 | F13: Kenadi Foundation
B14: 25 | C14: Giveaway Vans - Lutheran Church Outreach Event | D14: 42610 | F14: Maker Fair
B15: =SUM(B9:B14) -> 485 | F15: Oerich Kindergarton
F16: 910 Wood Ave
D17: 2017
B18: 40 | C18: Giveaways - Love Bugs - WW Show
B19: 85 | C19: Giveaway Vans - Make A Wish Foundation
B20: 250 | C20: Giveaway Vans - Kenadi Fundraiser #2
C21: Maker Fair
B22: 25 | C22: Giveaway Vans - Lutheran Church Outreach Event
B23: =SUM(B19:B22) -> 360
D25: 2018
B26: 40 | C26: Giveaway Vans (Locomotives) - WW Show
B27: 85 | C27: Giveaway Vans - Make A Wish Foundation
B28: 390 | C28: Giveaway Vans - Kenadi Fundraiser #3
B29: 50 | C29: Threshing Bee #1
B30: 25 | C30: Giveaway Vans - Lutheran Church Outreach Event
B31: =SUM(B27:B30) -> 550
D33: 2019
B34: 40 | C34: Giveaway Vans (Dely Vans) - WW Show | D34: 43582
B35: 85 | C35: Giveaway Vans - Make A Wish Foundation | D35: 43603
B36: 250 | C36: Giveaway Vans - Kenadi Fundraiser #4 | D36: 43638
B37: 113 | C37: Threshing Bee #2 (81 tractors, 32 vans) | D37: 43694
B38: 0 | C38: Giveaway Vans - Lutheran Church Outreach Event
B39: =SUM(B34:B38) -> 488

Sheet TOY seeds list
B2: #REF! | C2: Drwg Part No | D2: extension | E2: individual toy name | F2: =+#REF! -> #REF! | G2: =+#REF! -> #REF! | H2: =+#REF! -> #REF! | I2: =+#REF! -> #REF! | J2: =+#REF! -> #REF! | K2: Toys for 2019 tracing | L2: Subtotal per Category | M2: Goal for 2019 | N2: SEED QTY | O2: ON HAND | P2: 18
A3: 1 | B3: #REF! | C3: 1001 | D3: -100 | E3: BB Game | F3: =+#REF! -> #REF! | G3: =+#REF! -> #REF! | H3: =+#REF! -> #REF! | I3: =+#REF! -> #REF! | J3: =+#REF! -> #REF! | K3: 100 | L3: 100 | M3: 100 | N3: 1
A5: #REF! | B5: #REF! | C5: #REF! | D5: #REF! | E5: #REF! | F5: =+#REF! -> #REF! | G5: =+#REF! -> #REF! | H5: =+#REF! -> #REF! | I5: =+#REF! -> #REF! | J5: =+#REF! -> #REF! | L5: #REF! | M5: #REF!
C6: 1002 | D6: -101 | E6: Rocking Chair | F6: =+#REF! -> #REF! | G6: =+#REF! -> #REF! | H6: =+#REF! -> #REF! | I6: =+#REF! -> #REF! | J6: =+#REF! -> #REF! | K6: 40 | N6: 1
F7: =+#REF! -> #REF! | G7: =+#REF! -> #REF! | H7: =+#REF! -> #REF! | I7: =+#REF! -> #REF! | J7: =+#REF! -> #REF!
A8: 3 | B8: #REF! | C8: 1003 | D8: -100 | E8: Tugboat | F8: =+#REF! -> #REF! | G8: =+#REF! -> #REF! | H8: =+#REF! -> #REF! | I8: =+#REF! -> #REF! | J8: =+#REF! -> #REF! | K8: 100 | L8: 100 | M8: 100 | N8: 3
A10: 4 | B10: #REF! | C10: 0 | D10: -100 | E10: RACER 100 (FULLSIZE) | F10: =+#REF! -> #REF! | G10: =+#REF! -> #REF! | H10: =+#REF! -> #REF! | I10: =+#REF! -> #REF! | J10: =+#REF! -> #REF! | K10: 30 | L10: 180 | M10: 180 | N10: 2
B11: #REF! | C11: 1004 | D11: -101 | E11: RACER 101 | F11: =+#REF! -> #REF! | G11: =+#REF! -> #REF! | H11: =+#REF! -> #REF! | I11: =+#REF! -> #REF! | J11: =+#REF! -> #REF! | K11: 30 | L11: 0 | M11: 0 | N11: 1
B12: #REF! | C12: 1004 | D12: -102 | E12: RACER 102 | F12: =+#REF! -> #REF! | G12: =+#REF! -> #REF! | H12: =+#REF! -> #REF! | I12: =+#REF! -> #REF! | J12: =+#REF! -> #REF! | K12: 30 | L12: 0 | M12: 0 | N12: 1
B13: #REF! | C13: 1004 | D13: -103 | E13: RACER 103 - (SMALL Racer 100) | F13: =+#REF! -> #REF! | G13: =+#REF! -> #REF! | H13: =+#REF! -> #REF! | I13: =+#REF! -> #REF! | J13: =+#REF! -> #REF! | K13: 30 | L13: 0 | M13: 0 | N13: 1
B14: #REF! | C14: 1004 | D14: -104 | E14: RACER 104 - LARGE LIGHTNING MCQueen | F14: =+#REF! -> #REF! | G14: =+#REF! -> #REF! | H14: =+#REF! -> #REF! | I14: =+#REF! -> #REF! | J14: =+#REF! -> #REF! | K14: 30 | L14: 0 | M14: 0 | N14: 1
B15: #REF! | C15: 1004 | D15: -105 | E15: RACER 105 - SMALL LIGHTNING MCQueen | F15: =+#REF! -> #REF! | G15: =+#REF! -> #REF! | H15: =+#REF! -> #REF! | I15: =+#REF! -> #REF! | J15: =+#REF! -> #REF! | K15: 30 | L15: 0 | M15: 0 | N15: 1
B16: #REF! | C16: 1004 | D16: -106 | E16: Racer 106 - small boat like racer | F16: =+#REF! -> #REF! | G16: =+#REF! -> #REF! | H16: =+#REF! -> #REF! | I16: =+#REF! -> #REF! | J16: =+#REF! -> #REF! | K16: 0 | L16: 0 | M16: 0
B17: #REF! | C17: 1004 | D17: -107 | E17: Family Racer | F17: =+#REF! -> #REF! | G17: =+#REF! -> #REF! | H17: =+#REF! -> #REF! | I17: =+#REF! -> #REF! | J17: =+#REF! -> #REF! | K17: 0 | L17: 0 | M17: 0
B19: 0 | C19: CFB-01 | D19: #REF! | E19: RACER (LARGE STD) (10" for CFB) | F19: =+#REF! -> #REF! | G19: =+#REF! -> #REF! | H19: =+#REF! -> #REF! | I19: =+#REF! -> #REF! | J19: =+#REF! -> #REF! | K19: 0 | L19: 0 | M19: 0
B20: 0 | C20: CFB-02 | D20: #REF! | E20: RACER (LARGE DELUXE) (10" for CFB) | F20: =+#REF! -> #REF! | G20: =+#REF! -> #REF! | H20: =+#REF! -> #REF! | I20: =+#REF! -> #REF! | J20: =+#REF! -> #REF! | K20: 0 | L20: 0 | M20: 0
B21: 0 | C21: CFB-03 | D21: #REF! | E21: RACER (LARGE LONG-THIN) (10" for CFB) | F21: =+#REF! -> #REF! | G21: =+#REF! -> #REF! | H21: =+#REF! -> #REF! | I21: =+#REF! -> #REF! | J21: =+#REF! -> #REF! | K21: 0 | L21: 0 | M21: 0
B22: 0 | C22: CFB-04 | D22: #REF! | E22: BATMAN (LARGE) (10" for CFB) | F22: =+#REF! -> #REF! | G22: =+#REF! -> #REF! | H22: =+#REF! -> #REF! | I22: =+#REF! -> #REF! | J22: =+#REF! -> #REF! | K22: 0 | L22: 0 | M22: 0
A24: 5 | B24: #REF! | C24: 0 | D24: -100 | E24: CATERILLAR 100% | F24: =+#REF! -> #REF! | G24: =+#REF! -> #REF! | H24: =+#REF! -> #REF! | I24: =+#REF! -> #REF! | J24: =+#REF! -> #REF! | K24: 30 | L24: 30 | M24: 30 | N24: 1
C25: 1005 | D25: -101 | E25: CATERILLAR 75% | F25: =+#REF! -> #REF! | G25: =+#REF! -> #REF! | H25: =+#REF! -> #REF! | I25: =+#REF! -> #REF! | J25: =+#REF! -> #REF! | K25: 0 | L25: 0 | M25: 0 | N25: 1
A27: 6 | B27: #REF! | C27: 0 | D27: -100 | E27: PT CRUISER | F27: =+#REF! -> #REF! | G27: =+#REF! -> #REF! | H27: =+#REF! -> #REF! | I27: =+#REF! -> #REF! | J27: =+#REF! -> #REF! | K27: 30 | L27: 135 | M27: 135 | N27: 1
C28: 1006 | D28: -101 | E28: GANGSTA CAR | F28: =+#REF! -> #REF! | G28: =+#REF! -> #REF! | H28: =+#REF! -> #REF! | I28: =+#REF! -> #REF! | J28: =+#REF! -> #REF! | K28: 0 | L28: 0 | M28: 0
C29: 1006 | D29: -102 | E29: CHEVY 1949ER | F29: =+#REF! -> #REF! | G29: =+#REF! -> #REF! | H29: =+#REF! -> #REF! | I29: =+#REF! -> #REF! | J29: =+#REF! -> #REF! | K29: 0 | L29: 0 | M29: 0
C30: 1006 | D30: -103 | E30: LES ROGERS (LR) PATTERNS: 1006-103-1A thru 1006-103- 5D -- [names not available] | F30: =+#REF! -> #REF! | G30: =+#REF! -> #REF! | H30: =+#REF! -> #REF! | I30: =+#REF! -> #REF! | J30: =+#REF! -> #REF! | K30: 0 | L30: 0 | M30: 0
B31: #REF! | C31: 1006 | D31: -104 | E31: Pickup Truck Body 1 - can be used for flatbed, tanker, water truck, etc. | F31: =+#REF! -> #REF! | G31: =+#REF! -> #REF! | H31: =+#REF! -> #REF! | I31: =+#REF! -> #REF! | J31: =+#REF! -> #REF! | K31: 30 | L31: 0 | M31: 0 | N31: 1
C32: 1006 | D32: -105 | E32: BATMAN CAR | F32: =+#REF! -> #REF! | G32: =+#REF! -> #REF! | H32: =+#REF! -> #REF! | I32: =+#REF! -> #REF! | J32: =+#REF! -> #REF! | K32: 45 | L32: 0 | M32: 0 | N32: 1
C33: 1006 | D33: -106 | E33: Pickup Truck Body 2 - 4WD - can be used for flatbed, tanker, water truck, etc. | F33: =+#REF! -> #REF! | G33: =+#REF! -> #REF! | H33: =+#REF! -> #REF! | I33: =+#REF! -> #REF! | J33: =+#REF! -> #REF! | K33: 30 | L33: 0 | M33: 0
C34: #REF! | D34: #REF! | E34: #REF! | F34: =+#REF! -> #REF! | G34: =+#REF! -> #REF! | H34: =+#REF! -> #REF! | I34: =+#REF! -> #REF! | J34: =+#REF! -> #REF! | K34: #REF! | L34: #REF! | M34: #REF!
B35: #REF! | C35: 1006 | D35: -107-01 | E35: CAB ONLY - for Trailer series | F35: =+#REF! -> #REF! | G35: =+#REF! -> #REF! | H35: =+#REF! -> #REF! | I35: =+#REF! -> #REF! | J35: =+#REF! -> #REF! | K35: 0 | L35: 0 | M35: 0
B36: #REF! | C36: 1006 | D36: -107-02 | E36: Cab with Flat bed trailer | F36: =+#REF! -> #REF! | G36: =+#REF! -> #REF! | H36: =+#REF! -> #REF! | I36: =+#REF! -> #REF! | J36: =+#REF! -> #REF! | K36: 0 | L36: 0 | M36: 0
B37: #REF! | C37: 1006 | D37: -107-03 | E37: Cab with Log Hauling trailer | F37: =+#REF! -> #REF! | G37: =+#REF! -> #REF! | H37: =+#REF! -> #REF! | I37: =+#REF! -> #REF! | J37: =+#REF! -> #REF! | K37: 0 | L37: 0 | M37: 0
B38: #REF! | C38: 1006 | D38: -107-04 | E38: Cab with Semi trailer | F38: =+#REF! -> #REF! | G38: =+#REF! -> #REF! | H38: =+#REF! -> #REF! | I38: =+#REF! -> #REF! | J38: =+#REF! -> #REF! | K38: 0 | L38: 0 | M38: 0
B39: #REF! | C39: 1006 | D39: -107-05 | E39: Cab with Tanker trailer | F39: =+#REF! -> #REF! | G39: =+#REF! -> #REF! | H39: =+#REF! -> #REF! | I39: =+#REF! -> #REF! | J39: =+#REF! -> #REF! | K39: 0 | L39: 0 | M39: 0
B40: #REF! | C40: 1006 | D40: -107-06 | E40: Cab with Crayon Hauler Trailer | F40: =+#REF! -> #REF! | G40: =+#REF! -> #REF! | H40: =+#REF! -> #REF! | I40: =+#REF! -> #REF! | J40: =+#REF! -> #REF! | K40: 0 | L40: 0 | M40: 0
B41: #REF! | C41: 1006 | D41: -108 | E41: 1965 FORD PICKUP | F41: =+#REF! -> #REF! | G41: =+#REF! -> #REF! | H41: =+#REF! -> #REF! | I41: =+#REF! -> #REF! | J41: =+#REF! -> #REF! | K41: 0 | L41: 0 | M41: 0
B42: #REF! | C42: 1006 | D42: -109 | E42: 2014 Subaru Outback | F42: =+#REF! -> #REF! | G42: =+#REF! -> #REF! | H42: =+#REF! -> #REF! | I42: =+#REF! -> #REF! | J42: =+#REF! -> #REF! | K42: 0 | L42: 0 | M42: 0
B43: #REF! | C43: 1006 | D43: -110 | E43: 2000 GMC SIERRA TRUCK | F43: =+#REF! -> #REF! | G43: =+#REF! -> #REF! | H43: =+#REF! -> #REF! | I43: =+#REF! -> #REF! | J43: =+#REF! -> #REF! | K43: 0 | L43: 0 | M43: 0
B44: #REF! | C44: 1006 | D44: -111 | E44: Semi Truck with Trailer | F44: =+#REF! -> #REF! | G44: =+#REF! -> #REF! | H44: =+#REF! -> #REF! | I44: =+#REF! -> #REF! | J44: =+#REF! -> #REF! | K44: 0 | L44: 0 | M44: 0
B45: #REF! | C45: 1006 | D45: -112A | E45: Cartoon Truck | F45: =+#REF! -> #REF! | G45: =+#REF! -> #REF! | H45: =+#REF! -> #REF! | I45: =+#REF! -> #REF! | J45: =+#REF! -> #REF! | K45: 0 | L45: 0 | M45: 0
B46: #REF! | C46: 1006 | D46: -112B | E46: Cartoon Truck without Shell | F46: =+#REF! -> #REF! | G46: =+#REF! -> #REF! | H46: =+#REF! -> #REF! | I46: =+#REF! -> #REF! | J46: =+#REF! -> #REF! | K46: 0 | L46: 0 | M46: 0 | N46: 1
...

Sheet 2022 - Drwg No Sort
F1: TOY PLANS MANAGEMENT SYSTEM
F2: GROUND RULES
F3: 1. Toy Number is its category and its sequence within that category. Eg. Toy 16.34
F4: 2. Drawing number for each toy is "toy-category+assembly+-XX".
H11: NOTES re this worksheet:
H12: Changes are shown as shaded cells.
C14: Toy Number = Cat No + Sub-Cat No | H14: Some columns are hidden for printing TRACING DETAILS only. Remember to restore (unhide) when printing out the TOY PLANS MANAGEMENT SYSTEM.
F16: To use the autosorting feature, there can be no blank rows in the list. | H16: The sorting column is used to print tracing lists (A) for wheeled vehicles and (B) for critters. "c" for tracing is complete. This is done manually each time you need to print a list.
F19: LIST OF DRAWINGS
A20: Restore | C20: Category Name | D20: Toy Number | E20: Sub-Toy No | F20: Drwg Part No | G20: extension | H20: individual toy name | I20: Toys Planned for 2022 | J20: Subtotal per Category | K20: Goal for 2022 per Category | L20: Traceable or Not Traceable | M20: Total Traced on 2-27-2020 | N20: Total Traced for 2021 | O20: Stock Size | P20: Tracer | Q20: Pattern Retnd | R20: Leftover Inventory from 2021 | S20: TOTALS
A21: 2 | D21: 1 | E21: 1 | F21: 1001 | G21: -100 | H21: BB Game | I21: 100 | L21: N | O21: 1x4 | R21: 3 | S21: =SUM(R21:R21) -> 3
A22: 5 | D22: 2 | E22: 1 | F22: 1002 | G22: -101 | H22: Rocking Chair | I22: 40 | O22: 1/2 x | R22: 1 | S22: =SUM(R22:R22) -> 1
A23: 8 | D23: 3 | E23: 1 | F23: 1003 | G23: -100 | H23: Tugboat | I23: 100 | L23: N | O23: 1x4 | R23: 6 | S23: =SUM(R23:R23) -> 6
A24: 11 | D24: 4 | E24: 1 | F24: 1004 | G24: -100 | H24: Racer 100 (Medium) - called the Standard | I24: 30 | O24: 2x4 | R24: 1 | S24: =SUM(R24:R24) -> 1
A25: 12 | D25: 4 | E25: 2 | F25: 1004 | G25: -101 | H25: Racer 101 | I25: 30 | O25: 2x4 | S25: =SUM(R25:R25) -> 0
A26: 13 | D26: 4 | E26: 3 | F26: 1004 | G26: -102 | H26: Racer 102 | I26: 30 | O26: 2x4 | S26: =SUM(R26:R26) -> 0
A27: 14 | D27: 4 | E27: 4 | F27: 1004 | G27: -103 | H27: Racer 103 - (Small Racer 100) | I27: 30 | O27: 2x4 | S27: =SUM(R27:R27) -> 0
A28: 15 | D28: 4 | E28: 5 | F28: 1004 | G28: -104 | H28: Racer 104 - Lightning McQueen - Large | I28: 30 | O28: 2x4 | S28: =SUM(R28:R28) -> 0
A29: 16 | D29: 4 | E29: 6 | F29: 1004 | G29: -105 | H29: Racer 105 - Lightning McQueen - Small | I29: 30 | O29: 2x4 | S29: =SUM(R29:R29) -> 0
A30: 17 | D30: 4 | E30: 7 | F30: 1004 | G30: -106 | H30: Racer 106 - like small boat | O30: 2x4 | S30: =SUM(R30:R30) -> 0
A31: 18 | D31: 4 | E31: 8 | F31: 1004 | G31: -107 | H31: Family Racer - two door | O31: 2x4 | S31: =SUM(R31:R31) -> 0
A32: 25 | D32: 15 | E32: 16 | F32: 1005 | G32: -100 | H32: Caterpillar, Large (100%) | I32: 30 | O32: 2x6 | R32: 0 | S32: =SUM(R32:R32) -> 0
A33: 26 | D33: 15 | E33: 17 | F33: 1005 | G33: -101 | H33: Caterpillar, Small (75%) | O33: 2x4 | S33: =SUM(R33:R33) -> 0
A34: 47 | D34: 6 | E34: 14 | F34: 1006 | G34: -112B | H34: Cartoon Truck without Shell | O34: 2x4 | S34: =SUM(R34:R34) -> 0
A35: 46 | D35: 6 | E35: 13 | F35: 1006 | G35: -112A | H35: Cartoon Truck | O35: 2x4 | S35: =SUM(R35:R35) -> 0
A36: 41 | D36: 6 | E36: 8 | F36: 1006 | G36: -107-06 | H36: Cab with Crayon Hauler Trailer | O36: 2x4 | S36: =SUM(R36:R36) -> 0
A37: 40 | D37: 6 | E37: 7 | F37: 1006 | G37: -107-05 | H37: Cab with Tanker trailer | O37: 2x4 | S37: =SUM(R37:R37) -> 0
A38: 39 | D38: 6 | E38: 6 | F38: 1006 | G38: -107-04 | H38: Cab with Semi trailer | O38: 2x4 | S38: =SUM(R38:R38) -> 0
A39: 38 | D39: 6 | E39: 5 | F39: 1006 | G39: -107-03 | H39: Cab with Log Hauling trailer | O39: 2x4 | S39: =SUM(R39:R39) -> 0
A40: 37 | D40: 6 | E40: 4 | F40: 1006 | G40: -107-02 | H40: Cab with Flat bed trailer | O40: 2x4 | S40: =SUM(R40:R40) -> 0
A41: 36 | D41: 6 | E41: 3 | F41: 1006 | G41: -107-01 | H41: Cab ONLY - for Trailer series: | O41: 2x4 | S41: =SUM(R41:R41) -> 0
D42: 4 | E42: 10 | F42: 1006 | G42: -105A | H42: Batman Race Car -Small | O42: 2x4
A43: 29 | D43: 5 | E43: 1 | F43: 1006 | G43: -100 | H43: PT Cruiser | I43: 30 | O43: 2x4 | R43: 37 | S43: =SUM(R43:R43) -> 37
A44: 30 | D44: 5 | E44: 2 | F44: 1006 | G44: -101 | H44: Gangsta Car | O44: 2x4 | S44: =SUM(R44:R44) -> 0
A45: 31 | D45: 5 | E45: 3 | F45: 1006 | G45: -102 | H45: Chevy 1949er | O45: 2x4 | S45: =SUM(R45:R45) -> 0
A46: 32 | D46: 4 | E46: 15 | F46: 1006 | G46: -103 | H46: Racers by Les Rogers (LR): 1006-103-1A thru 1006-103- 5D | O46: 2x4 | S46: =SUM(R46:R46) -> 0
A47: 33 | D47: 6 | E47: 1 | F47: 1006 | G47: -104 | H47: Pickup Truck Body 1 - used for flatbed, tanker, water truck, etc. | I47: 30 | O47: 2x4 | S47: =SUM(R47:R47) -> 0
A48: 34 | D48: 4 | E48: 9 | F48: 1006 | G48: -105 | H48: Batman Race Car - Medium | I48: 45 | O48: 2x4 | S48: =SUM(R48:R48) -> 0
A49: 35 | D49: 6 | E49: 2 | F49: 1006 | G49: -106 | H49: Pickup Truck Body 2 - 4WD -used for flatbed, tanker, water truck | I49: 30 | O49: 2x6 | S49: =SUM(R49:R49) -> 0
A50: 42 | D50: 6 | E50: 9 | F50: 1006 | G50: -108 | H50: 1965 Ford Pickup | O50: 2x4 | S50: =SUM(R50:R50) -> 0
...

Sheet TRACING
A1: TRACING

Sheet 2024 TRACING RECORDS
C1: Toy Category | D1: Toy # | E1: Sub-Toy # | F1: Drwg Part # | G1: Ext | H1: Toy Name | I1: Toys Planned for 2024 | J1: Traceable or Not / Size | K1: Traced on 1-20-24 | L1: Traced on 1-27-24 | M1: Traced on 2-10-24 | N1: Traced on 2-24-24 | O1: Traced on 3-9-24 | P1: Traced on 3-23-24 | Q1: Tracer's Name | R1: Status: Traced - Pattern Returned - Done
B2: 1 | C2: Basketball Games | D2: 1 | E2: 1 | F2: 1001 | G2: -100 | H2: BB Game | I2: 100 | J2: N
B3: 2 | C3: Rocking Chairs | D3: 2 | E3: 1 | F3: 1002 | G3: -101 | H3: Rocking Chair | I3: 40 | J3: N
B4: 3 | C4: Tugboats | D4: 3 | E4: 1 | F4: 1003 | G4: -100 | H4: Tugboat | I4: 100 | J4: N
B5: 4 | C5: Racers | D5: 4 | E5: 1 | F5: 1004 | G5: -100 | H5: Racer 100 - STANDARD - MEDIUM | I5: 30 | J5: 2x4 | L5: =+I5 -> 30 | Q5: John | R5: Done
D6: 4 | E6: 2 | F6: 1004 | G6: -101 | H6: Racer 101 - DELUXE | I6: 30 | J6: 2x4 | L6: =+I6 -> 30 | Q6: Dee | R6: Done
D7: 4 | E7: 3 | F7: 1004 | G7: -102 | H7: Racer 102 -LES ROGERS | I7: 30 | J7: 2x4 | L7: =+I7 -> 30 | Q7: Don | R7: Done
D8: 4 | E8: 4 | F8: 1004 | G8: -103 | H8: Racer 103 - STANDARD - SMALL | I8: 40 | J8: 2x4 | L8: =+I8 -> 40 | Q8: Nick - Harley | R8: Done
D9: 4 | E9: 5 | F9: 1004 | G9: -104 | H9: Racer 104 - Lightning McQueen - Large | I9: 25 | J9: 2x4 | L9: =+I9 -> 25 | Q9: Keith | R9: Done
D10: 4 | E10: 6 | F10: 1004 | G10: -105 | H10: Racer 105 - Lightning McQueen - Small | I10: 25 | J10: 2x4 | M10: 25 | Q10: Don | R10: Done
D11: 4 | E11: 7 | F11: 1004 | G11: -106 | H11: Racer 106 - like small boat
D12: 4 | E12: 8 | F12: 1004 | G12: -107 | H12: Family Racer - two door
D13: 4 | E13: 9 | F13: 1006 | G13: -105 | H13: Batman Race Car - Medium | I13: 25 | J13: 2x4 | N13: need
D14: 4 | E14: 10 | F14: 1006 | G14: -105A | H14: Batman Race Car -Small | I14: 25 | J14: 2x4 | L14: =+I14 -> 25 | Q14: Ken | R14: Done; Ed took Home
D15: 4 | E15: 11 | F15: CFB | G15: CFB-01 | H15: CFB RACER - STANDARD - LARGE (10" for CFB) | I15: 20 | J15: 2x4 | L15: =+I15 -> 20 | Q15: John + | R15: Done
C16: For CFB: cut and sand only | D16: 4 | E16: 12 | F16: CFB | G16: CFB-02 | H16: CFB Racer - DELUXE - LARGE (10" for CFB) | I16: 20 | J16: 2x4 | L16: =+I16 -> 20 | Q16: John + | R16: Done
C17: For CFB: cut and sand only | D17: 4 | E17: 13 | F17: CFB | G17: CFB-03 | H17: CFB Racer - LONG THIN - LARGE (10" for CFB) | I17: 20 | J17: 2x4 | L17: =+I17 -> 20 | Q17: John + | R17: Done
C18: For CFB: cut and sand only | D18: 4 | E18: 14 | F18: CFB | G18: CFB-04 | H18: CFB RACER - Batman -LARGE (10" for CFB) | I18: 40 | J18: 2x4 | L18: =+I18 -> 40 | Q18: John + | R18: Done
C19: For CFB: cut and sand only | D19: 4 | E19: 15 | F19: 1006 | G19: -103 | H19: Racers by Les Rogers (LR): 1006-103-1A thru 1006-103- 5D
C20: new in 2023 | D20: 4 | E20: 16 | F20: 1004 | G20: -108 | H20: Derby Car | I20: 30 | J20: 2x4 | N20: need | R20: Started 2-10
B21: 5 | C21: Cars | D21: 5 | E21: 1 | F21: 1006 | G21: -100 | H21: PT Cruiser | I21: 30 | J21: 2x4 | N21: need
D22: 5 | E22: 2 | F22: 1006 | G22: -101 | H22: Gangsta Car
D23: 5 | E23: 3 | F23: 1006 | G23: -102 | H23: Chevy 1949er
D24: 5 | E24: 6 | F24: 1006 | G24: -109 | H24: 2014 Subaru Outback
D25: 5 | E25: 7 | F25: 1007 | G25: -101 | H25: Ameba Car
D26: 5 | E26: 8 | F26: 1007 | G26: -102 | H26: C-Car | I26: 20 | J26: 2x4 | N26: need
D27: 5 | E27: 9 | H27: spare slot
D28: 5 | E28: 10 | F28: 1007 | G28: -109 | H28: Old 69 VW Bug | I28: 20 | J28: 2x4 | N28: need
D29: 5 | E29: 11 | F29: 1007 | G29: -110 | H29: Fiat 500D
D30: 5 | E30: 12 | F30: 1007 | G30: -111 | H30: Fiat 500- 2 (Older)
D31: 5 | E31: 13 | F31: 1007 | G31: -112 | H31: Scion
D32: 5 | E32: 14 | F32: 1007 | G32: -113 | H32: KIA Soul
D33: 5 | E33: 15 | F33: 1007 | G33: -115 | H33: Little Boxy Car
D34: 5 | E34: 16 | F34: 1007 | G34: -116 | H34: Kid Car | I34: 20 | J34: 2x4 | N34: need
D35: 5 | E35: 17 | F35: 1007 | G35: -117 | H35: MG VA1
D36: 5 | E36: 18 | F36: 1007 | G36: -118 | H36: MG-TC
C37: new in 2023 | D37: 5 | E37: 19 | F37: 1011 | G37: -105 | H37: Runabout Car | I37: 25 | J37: 1" | N37: need | R37: ?
C38: new in 2023 | D38: 5 | E38: 20 | F38: 1011 | G38: -106 | H38: Golf Car | I38: 25 | J38: 1" | M38: 25 | Q38: 4 Guys | R38: Done
C39: new in 2023 | D39: 5 | E39: 21 | F39: 1007 | G39: 133 | H39: Clown Car | I39: 25 | J39: 2x4 | N39: need
B40: 6 | C40: Trucks | D40: 6 | E40: 1 | F40: 1006 | G40: -104 | H40: Pickup Truck Body 1 - used for flatbed, tanker, water truck, etc. | I40: 30 | J40: 2x4 | N40: need
...

Sheet Stock for 1 inch toys - 2025
A1: √ | B1: Toy Number | C1: Decimal Size | D1: Fractional Size | E1: Qty | F1: Toy Name | G1: Notes
B2: 5.19 | C2: 3.875 x 5.625 | D2: 3 7/8 x 5 5/8 | E2: 25 | F2: runabout car
B3: 5.20 | C3: 3.0 x 5 .625 | D3: 3 x 5 5/8 | E3: 25 | F3: golf car
B4: 6.19 | C4: 3.5 x 7.5 | D4: 3 1/2" x 7 1/2" | E4: 25 | F4: roadgrader
B5: 6.20 | C5: 5.375 x 3.375 | D5: 5 3/8 " x 3 3/8 " | E5: 25 | F5: runabout truck
B6: 7.11 | C6: 2.75 x 4.5625 | D6: 2 ¾ x 4 9/16 | E6: 20 | F6: oldies
B7: 7.12 | C7: 2.75 x 4.625 | D7: 2 ¾ x 4 5/8 | E7: 20 | F7: oldies
B8: 7.13 | C8: 2.75 x 4.875 | D8: 2 ¾ x 4 7/8 | E8: 20 | F8: oldies
B9: 7.14 | C9: 2.75 x 4.875 | D9: 2 ¾ x 4 7/8 | E9: 20 | F9: oldies
B10: 7.15 | C10: 2.75 x 4.5625 | D10: 2 ¾ x 4 9/16 | E10: 20 | F10: oldies
B11: 7.16 | C11: 2.5 x 4.25 | D11: 2 ½ x 4 ¼ | E11: 20 | F11: oldies
B12: 7.17 | C12: 2.5 x 4.25 | D12: 2 ½ x 4 ¼ | E12: 20 | F12: oldies
B13: 7.18 | C13: 2.5 x 4.125 | D13: 2 ½ x 4 1/8 | E13: 20 | F13: oldies
B14: 7.19 | C14: 2.5 x 4.00 | D14: 2 ½ x 4 | E14: 20 | F14: oldies
B15: 7.20 | C15: 2.5 x 4.00 | D15: 2 ½ x 4 | E15: 20 | F15: oldies
B16: 9.4 | C16: 2.75 x 5.00 | D16: 2 3/4 x 5 | E16: 100 | F16: Locomotive | G16: done
B17: 11.1 | C17: 2.5 x 5.00 | D17: 2 1/2 x 5 | F17: Tractor | G17: Rick
B18: 15.3.1 | C18: 4.375 x 5.625 | D18: 4 3/8 x 5 5/8 | E18: 20 | F18: Hippo
B19: 15.12 | C19: 4.25 x 6.00 | D19: 4 ¼ x 6 | E19: 10+ | F19: Thin Duck
B20: 15.14 | C20: 4.375 x 7.00 | D20: 4 3/8 x 7 | E20: 10+ | F20: Thin Whale
B21: 15.18 | C21: 4.5 x 5.5 | D21: 4 ½ x 5 ½ | E21: 20 | F21: Bunny
B22: 15.21 | C22: 5.5 x 8.5 " | D22: 5 1/2 x 8 1/2 | E22: 70 | F22: Giraffe | G22: 20 for Toy Program; 50 for Comm Event
B23: 15.22 | C23: 4.75 x 7 | D23: 4 ¾ x 7 | E23: 20 | F23: Koala
B24: 15.23 | C24: 4 x 6 | D24: 4 x 6 | E24: 20 | F24: Hedge Hog
B25: 18.3 | C25: 3.5 x 6 | D25: 3 1/2 x 6 | E25: 25 | F25: Firetruck Short Thin
B26: 19.1 | C26: 1.625 x 5.3125 | D26: 1 5/8 x 5 5/16 | E26: 150 | F26: Airplane | G26: Rick
B27: 20.11 | C27: 3.375 x 6.25 | D27: 3 3/8 x 6 ¼ | E27: 25 | F27: IceCream Van
B28: 20.12 | C28: 5 x 5.75 | D28: 5 x 5 ¾ | E28: 25 | F28: Milk Van

Sheet Tracing Request Forms(15)
B1: TRACING REQUEST | E1: TRACING REQUEST | H1: TRACING REQUEST
B2: Toy ID: | E2: Toy ID: | H2: Toy ID:
B3: Qty to Trace: | E3: Qty to Trace: | H3: Qty to Trace:
B4: Wood: | E4: Wood: | H4: Wood:
B5: Qty Traced: | E5: Qty Traced: | H5: Qty Traced:
B6: Tracer: | E6: Tracer: | H6: Tracer:
B7: Returned Pattern? (Y/N) | E7: Returned Pattern? (Y/N) | H7: Returned Pattern? (Y/N)
B9: TRACING REQUEST | E9: TRACING REQUEST | H9: TRACING REQUEST
B10: Toy ID: | E10: Toy ID: | H10: Toy ID:
